BEGIN:VCALENDAR
VERSION:2.0
PRODID:-//Benny Bleu - ECPv6.15.15//NONSGML v1.0//EN
CALSCALE:GREGORIAN
METHOD:PUBLISH
X-ORIGINAL-URL:https://bennybleu.com
X-WR-CALDESC:Events for Benny Bleu
REFRESH-INTERVAL;VALUE=DURATION:PT1H
X-Robots-Tag:noindex
X-PUBLISHED-TTL:PT1H
BEGIN:VTIMEZONE
TZID:UTC
BEGIN:STANDARD
TZOFFSETFROM:+0000
TZOFFSETTO:+0000
TZNAME:UTC
DTSTART:20250101T000000
END:STANDARD
END:VTIMEZONE
BEGIN:VEVENT
DTSTART;TZID=UTC:20260515T180000
DTEND;TZID=UTC:20260515T200000
DTSTAMP:20260421T082850
CREATED:20260317T222813Z
LAST-MODIFIED:20260317T222813Z
UID:2422-1778868000-1778875200@bennybleu.com
SUMMARY:Noble Shepherd
DESCRIPTION:How sweet it is to play at my hometown joint.
URL:https://bennybleu.com/event/noble-shepherd/
LOCATION:Noble Shepherd\, 7853 State Route 20A\, Bloomfield\, NY\, 14469\, United States
ATTACH;FMTTYPE=image/jpeg:https://bennybleu.com/wp-content/uploads/2026/01/IMG_6221-scaled.jpg
END:VEVENT
END:VCALENDAR